BEGIN:VCALENDAR
VERSION:2.0
PRODID:-//les tranches de cake - ECPv6.15.20//NONSGML v1.0//EN
CALSCALE:GREGORIAN
METHOD:PUBLISH
X-ORIGINAL-URL:https://lestranchesdecake.ch
X-WR-CALDESC:Évènements pour les tranches de cake
REFRESH-INTERVAL;VALUE=DURATION:PT1H
X-Robots-Tag:noindex
X-PUBLISHED-TTL:PT1H
BEGIN:VTIMEZONE
TZID:Europe/Zurich
BEGIN:DAYLIGHT
TZOFFSETFROM:+0100
TZOFFSETTO:+0200
TZNAME:CEST
DTSTART:20250330T010000
END:DAYLIGHT
BEGIN:STANDARD
TZOFFSETFROM:+0200
TZOFFSETTO:+0100
TZNAME:CET
DTSTART:20251026T010000
END:STANDARD
BEGIN:DAYLIGHT
TZOFFSETFROM:+0100
TZOFFSETTO:+0200
TZNAME:CEST
DTSTART:20260329T010000
END:DAYLIGHT
BEGIN:STANDARD
TZOFFSETFROM:+0200
TZOFFSETTO:+0100
TZNAME:CET
DTSTART:20261025T010000
END:STANDARD
BEGIN:DAYLIGHT
TZOFFSETFROM:+0100
TZOFFSETTO:+0200
TZNAME:CEST
DTSTART:20270328T010000
END:DAYLIGHT
BEGIN:STANDARD
TZOFFSETFROM:+0200
TZOFFSETTO:+0100
TZNAME:CET
DTSTART:20271031T010000
END:STANDARD
END:VTIMEZONE
BEGIN:VEVENT
DTSTART;TZID=Europe/Zurich:20260328T090000
DTEND;TZID=Europe/Zurich:20260328T120000
DTSTAMP:20260420T150337
CREATED:20260302T144618Z
LAST-MODIFIED:20260302T144618Z
UID:30424-1774688400-1774699200@lestranchesdecake.ch
SUMMARY:Portes ouvertes de l'Atelier
DESCRIPTION:
URL:https://lestranchesdecake.ch/event/portes-ouvertes-de-latelier-2/
LOCATION:L’Atelier\, Petit Bayard 135\, Les Bayards
END:VEVENT
BEGIN:VEVENT
DTSTART;TZID=Europe/Zurich:20260307T090000
DTEND;TZID=Europe/Zurich:20260307T120000
DTSTAMP:20260420T150337
CREATED:20260302T144229Z
LAST-MODIFIED:20260302T144229Z
UID:30416-1772874000-1772884800@lestranchesdecake.ch
SUMMARY:Portes ouvertes de l'Atelier
DESCRIPTION:
URL:https://lestranchesdecake.ch/event/portes-ouvertes-de-latelier/
LOCATION:L’Atelier\, Petit Bayard 135\, Les Bayards
END:VEVENT
END:VCALENDAR